BEGIN:VCALENDAR
VERSION:2.0
PRODID:-//White Wizard Storm - ECPv6.15.20//NONSGML v1.0//EN
CALSCALE:GREGORIAN
METHOD:PUBLISH
X-WR-CALNAME:White Wizard Storm
X-ORIGINAL-URL:https://w-w-s.info
X-WR-CALDESC:Veranstaltungen für White Wizard Storm
REFRESH-INTERVAL;VALUE=DURATION:PT1H
X-Robots-Tag:noindex
X-PUBLISHED-TTL:PT1H
BEGIN:VTIMEZONE
TZID:Europe/Berlin
BEGIN:DAYLIGHT
TZOFFSETFROM:+0100
TZOFFSETTO:+0200
TZNAME:CEST
DTSTART:20200329T010000
END:DAYLIGHT
BEGIN:STANDARD
TZOFFSETFROM:+0200
TZOFFSETTO:+0100
TZNAME:CET
DTSTART:20201025T010000
END:STANDARD
BEGIN:DAYLIGHT
TZOFFSETFROM:+0100
TZOFFSETTO:+0200
TZNAME:CEST
DTSTART:20210328T010000
END:DAYLIGHT
BEGIN:STANDARD
TZOFFSETFROM:+0200
TZOFFSETTO:+0100
TZNAME:CET
DTSTART:20211031T010000
END:STANDARD
BEGIN:DAYLIGHT
TZOFFSETFROM:+0100
TZOFFSETTO:+0200
TZNAME:CEST
DTSTART:20220327T010000
END:DAYLIGHT
BEGIN:STANDARD
TZOFFSETFROM:+0200
TZOFFSETTO:+0100
TZNAME:CET
DTSTART:20221030T010000
END:STANDARD
END:VTIMEZONE
BEGIN:VEVENT
DTSTART;TZID=Europe/Berlin:20210309T180000
DTEND;TZID=Europe/Berlin:20210309T193000
DTSTAMP:20260425T215916
CREATED:20210301T124324Z
LAST-MODIFIED:20210301T124324Z
UID:1866-1615312800-1615318200@w-w-s.info
SUMMARY:Zoom Meeting - Das Innere Kind - Finden und Umgang
DESCRIPTION:Das Thema „innere Kind“ ist der Start in meine ZOOM-Zeit. \nDie Beschreibung lautet wie folgt: \nIch begreife wieder\, die Zugehörigkeit des inneren Kindes zu meinem Leben. Durch ständige Zurückweisung hört unser inneres Kind auf\, Wünsche mitzuteilen und sitzt nur noch stumpfsinnig in der Ecke. Wenn wir wieder Kontakt zu ihm aufnehmen\, nehmen wir auch Kontakt zu uns selber auf – und wissen wieder\, was uns Freude macht. Spaß und Leichtigkeit kehren ins Leben zurück und bringen all die Aspekte mit sich\, die das Leben lebenswert machen. \nIch werde ein bisschen über das Thema erzählen und euch dann zu eurem inneren Kind führen. \nAm Ende ist noch Zeit für eine kurze Fragerunde das Thema betreffend. \nAnmeldung erfolgt über die Bezahlung von 15€ über paypal: jpfeifer@activitum.com oder Überweisung an unser Konto: Eheleute Pfeifer  IBAN DE73 3405 0000 0000 0975 50   \nVerwendungszweck: Zoom + Datum \nIch bitte um Vorschläge für weitere Zoom-Meetings. \nIch freue mich auf euch. \nLiebe Grüße \nJürgen
URL:https://w-w-s.info/event/zoom-meeting-das-innere-kind-finden-und-umgang/
END:VEVENT
BEGIN:VEVENT
DTSTART;TZID=Europe/Berlin:20210318T180000
DTEND;TZID=Europe/Berlin:20210318T193000
DTSTAMP:20260425T215916
CREATED:20210301T125249Z
LAST-MODIFIED:20210301T125335Z
UID:1868-1616090400-1616095800@w-w-s.info
SUMMARY:Zoom Meeting - Vergebung
DESCRIPTION:Die Vergebung ist ein Thema\, das sehr häufig falsch verstanden wird. \nIch versuche ein wenig Klarheit in das Thema zu bringen. \nBeschrieben habe ich die Energie der Vergebund\, wie folgt: \nWer nicht vergeben kann\, kann nicht lieben. Auch wenn es schwer fällt\, wir dürfen es wieder lernen. Die Energie unterstützt dabei\, wieder in Herzen zu sehen und sich mit anderen Menschen oder sich selbst zu verbinden. Wut\, Trauer und Schmerz fallen wie überreife Früchte von uns ab. Alle Unzufriedenheit mit sich selbst und anderen Menschen löst sich auf und macht Platz für liebevolle Gedanken. So können wir uns weiterentwickeln und kommen heraus aus dem Muster der Bewertung. Wenn alles vergeben ist\, werden wir feststellen\, dass alles weder gut noch schlecht ist – es IST einfach. Mit dieser Erkenntnis steht uns wieder unsere ganze Lebensenergie zur Verfügung. \nEs gibt die Möglichkeit\, die Vergebung in diesem Meeting zu üben. Ich führe euch dabei. Abschließend gibt es wieder die Möglichkeit kurze Fragen zum Thema zu stellen. \nAnmeldung erfolgt über die Bezahlung von 15€ über paypal: jpfeifer@activitum.com oder Überweisung an unser Konto: Eheleute Pfeifer  IBAN DE73 3405 0000 0000 0975 50   \nVerwendungszweck: Zoom + Datum \nIch bitte um Vorschläge für weitere Zoom-Meetings. \nIch freue mich auf euch. \nLiebe Grüße \nJürgen
URL:https://w-w-s.info/event/zoom-meeting-vergebung/
END:VEVENT
END:VCALENDAR