BEGIN:VCALENDAR
VERSION:2.0
PRODID:-//White Wizard Storm - ECPv6.15.20//NONSGML v1.0//EN
CALSCALE:GREGORIAN
METHOD:PUBLISH
X-WR-CALNAME:White Wizard Storm
X-ORIGINAL-URL:https://w-w-s.info
X-WR-CALDESC:Veranstaltungen für White Wizard Storm
REFRESH-INTERVAL;VALUE=DURATION:PT1H
X-Robots-Tag:noindex
X-PUBLISHED-TTL:PT1H
BEGIN:VTIMEZONE
TZID:Europe/Berlin
BEGIN:DAYLIGHT
TZOFFSETFROM:+0100
TZOFFSETTO:+0200
TZNAME:CEST
DTSTART:20180325T010000
END:DAYLIGHT
BEGIN:STANDARD
TZOFFSETFROM:+0200
TZOFFSETTO:+0100
TZNAME:CET
DTSTART:20181028T010000
END:STANDARD
BEGIN:DAYLIGHT
TZOFFSETFROM:+0100
TZOFFSETTO:+0200
TZNAME:CEST
DTSTART:20190331T010000
END:DAYLIGHT
BEGIN:STANDARD
TZOFFSETFROM:+0200
TZOFFSETTO:+0100
TZNAME:CET
DTSTART:20191027T010000
END:STANDARD
BEGIN:DAYLIGHT
TZOFFSETFROM:+0100
TZOFFSETTO:+0200
TZNAME:CEST
DTSTART:20200329T010000
END:DAYLIGHT
BEGIN:STANDARD
TZOFFSETFROM:+0200
TZOFFSETTO:+0100
TZNAME:CET
DTSTART:20201025T010000
END:STANDARD
END:VTIMEZONE
BEGIN:VEVENT
DTSTART;VALUE=DATE:20190921
DTEND;VALUE=DATE:20190923
DTSTAMP:20260425T132115
CREATED:20190608T121855Z
LAST-MODIFIED:20190822T103356Z
UID:1571-1569024000-1569196799@w-w-s.info
SUMMARY:Messe GePe Liestal
DESCRIPTION:Jeder Mensch besteht aus Schwingungen. Und wenn alle Schwingungen im Einklang sind (wir fühlen uns ausgeglichen) ist alles gut. Doch wann ist das schon mal der Fall. Manchmal haben wir etwas zu viel von dem oder etwas zu wenig von dem anderen. \nHier können wir unterstützen. Wir haben die Möglichkeit\, ihnen die Dinge zu entfernen\, die nicht zu ihnen gehören oder die Dinge ihnen zuzuführen\, die ihnen gerade abhanden gekommen sind. \nWeiterhin können wir für ein tolles Wohnumfeld sorgen. Wir finden energetische Belastungen und können diese auch in den meisten Fällen beseitigen. \nSchlussendlich bieten wir energetisierte Objekte an\, als Raumschutz oder persönliche Unterstützung. \nWir rufen euch zu: Seid neugierig!                    Mehr Infos hier \nWir freuen uns auf euch! \nStefanie und Jürgen Pfeifer
URL:https://w-w-s.info/event/messe-gepe-liestal/
LOCATION:Mehrzweckhalle Frenken Bündternhalle\, Bündtenstr. 5\, Liestal\, 4410\, Schweiz
END:VEVENT
END:VCALENDAR