BEGIN:VCALENDAR
VERSION:2.0
PRODID:-//White Wizard Storm - ECPv6.15.20//NONSGML v1.0//EN
CALSCALE:GREGORIAN
METHOD:PUBLISH
X-WR-CALNAME:White Wizard Storm
X-ORIGINAL-URL:https://w-w-s.info
X-WR-CALDESC:Veranstaltungen für White Wizard Storm
REFRESH-INTERVAL;VALUE=DURATION:PT1H
X-Robots-Tag:noindex
X-PUBLISHED-TTL:PT1H
BEGIN:VTIMEZONE
TZID:Europe/Berlin
BEGIN:DAYLIGHT
TZOFFSETFROM:+0100
TZOFFSETTO:+0200
TZNAME:CEST
DTSTART:20180325T010000
END:DAYLIGHT
BEGIN:STANDARD
TZOFFSETFROM:+0200
TZOFFSETTO:+0100
TZNAME:CET
DTSTART:20181028T010000
END:STANDARD
BEGIN:DAYLIGHT
TZOFFSETFROM:+0100
TZOFFSETTO:+0200
TZNAME:CEST
DTSTART:20190331T010000
END:DAYLIGHT
BEGIN:STANDARD
TZOFFSETFROM:+0200
TZOFFSETTO:+0100
TZNAME:CET
DTSTART:20191027T010000
END:STANDARD
BEGIN:DAYLIGHT
TZOFFSETFROM:+0100
TZOFFSETTO:+0200
TZNAME:CEST
DTSTART:20200329T010000
END:DAYLIGHT
BEGIN:STANDARD
TZOFFSETFROM:+0200
TZOFFSETTO:+0100
TZNAME:CET
DTSTART:20201025T010000
END:STANDARD
END:VTIMEZONE
BEGIN:VEVENT
DTSTART;TZID=Europe/Berlin:20190831T100000
DTEND;TZID=Europe/Berlin:20190901T170000
DTSTAMP:20260425T144210
CREATED:20190730T124246Z
LAST-MODIFIED:20190730T124246Z
UID:1702-1567245600-1567357200@w-w-s.info
SUMMARY:Karten legen LERNEN mit Maria Angela
DESCRIPTION:Die sehr erfolgreiche Schweizer Kartenlegerin Maria Angela a Marca de Donatz ist in Deutschland und wir dürfen sie in unseren Räumlichkeiten begrüßen. \nSie lehrt das Kartenlegen nach Lenormand. Ein sehr weitreichendes und tiefgehendes System. \nGrundkurs \nDu erlernst die Bedeutung und Informationen\, die jede einzelne Karte beinhaltet und wie die Karten zusammenspielen\, wenn sie nebeneinander  \nliegen. Die Kursdauer beträgt 2 Tage. \nTag 1   Kennenlernen der Karten 01 – 18 \nTag 2  Kennenlernen der Karten 19 – 36 \n(entnommen aus der HP von Maria Angela http://www.maria-angela-kartenlegerin.ch/links.html) \nAusgleich je Tag 200€ = 400€
URL:https://w-w-s.info/event/karten-legen-lernen-mit-maria-angela/
LOCATION:Wohlfühl-T-raum\, Unterhölterfelderstr. 36a\, Remscheid\, NRW\, 42857\, Deutschland
END:VEVENT
END:VCALENDAR