BEGIN:VCALENDAR
VERSION:2.0
PRODID:-//White Wizard Storm - ECPv6.15.20//NONSGML v1.0//EN
CALSCALE:GREGORIAN
METHOD:PUBLISH
X-WR-CALNAME:White Wizard Storm
X-ORIGINAL-URL:https://w-w-s.info
X-WR-CALDESC:Veranstaltungen für White Wizard Storm
REFRESH-INTERVAL;VALUE=DURATION:PT1H
X-Robots-Tag:noindex
X-PUBLISHED-TTL:PT1H
BEGIN:VTIMEZONE
TZID:Europe/Berlin
BEGIN:DAYLIGHT
TZOFFSETFROM:+0100
TZOFFSETTO:+0200
TZNAME:CEST
DTSTART:20180325T010000
END:DAYLIGHT
BEGIN:STANDARD
TZOFFSETFROM:+0200
TZOFFSETTO:+0100
TZNAME:CET
DTSTART:20181028T010000
END:STANDARD
BEGIN:DAYLIGHT
TZOFFSETFROM:+0100
TZOFFSETTO:+0200
TZNAME:CEST
DTSTART:20190331T010000
END:DAYLIGHT
BEGIN:STANDARD
TZOFFSETFROM:+0200
TZOFFSETTO:+0100
TZNAME:CET
DTSTART:20191027T010000
END:STANDARD
BEGIN:DAYLIGHT
TZOFFSETFROM:+0100
TZOFFSETTO:+0200
TZNAME:CEST
DTSTART:20200329T010000
END:DAYLIGHT
BEGIN:STANDARD
TZOFFSETFROM:+0200
TZOFFSETTO:+0100
TZNAME:CET
DTSTART:20201025T010000
END:STANDARD
END:VTIMEZONE
BEGIN:VEVENT
DTSTART;TZID=Europe/Berlin:20190830T100000
DTEND;TZID=Europe/Berlin:20190830T170000
DTSTAMP:20260425T131927
CREATED:20190730T122858Z
LAST-MODIFIED:20190730T123019Z
UID:1699-1567159200-1567184400@w-w-s.info
SUMMARY:Numerologie - Workshop von und mit Maria Angela
DESCRIPTION:Was bedeuten die Zahlen? \nEine Antwort selber erfahren und lernen im Grundkurs mit Maria Angela a Marca de Donatz \n \nAusgleich für einen Tag: 200€ \nMaria Angela ist nur selten in Deutschland\, also nutzt die Chance!
URL:https://w-w-s.info/event/numerologie-workshop-von-und-mit-maria-angela/
LOCATION:Wohlfühl-T-raum\, Unterhölterfelderstr. 36a\, Remscheid\, NRW\, 42857\, Deutschland
END:VEVENT
END:VCALENDAR