BEGIN:VCALENDAR
VERSION:2.0
PRODID:-//White Wizard Storm - ECPv6.15.20//NONSGML v1.0//EN
CALSCALE:GREGORIAN
METHOD:PUBLISH
X-WR-CALNAME:White Wizard Storm
X-ORIGINAL-URL:https://w-w-s.info
X-WR-CALDESC:Veranstaltungen für White Wizard Storm
REFRESH-INTERVAL;VALUE=DURATION:PT1H
X-Robots-Tag:noindex
X-PUBLISHED-TTL:PT1H
BEGIN:VTIMEZONE
TZID:Europe/Berlin
BEGIN:DAYLIGHT
TZOFFSETFROM:+0100
TZOFFSETTO:+0200
TZNAME:CEST
DTSTART:20180325T010000
END:DAYLIGHT
BEGIN:STANDARD
TZOFFSETFROM:+0200
TZOFFSETTO:+0100
TZNAME:CET
DTSTART:20181028T010000
END:STANDARD
BEGIN:DAYLIGHT
TZOFFSETFROM:+0100
TZOFFSETTO:+0200
TZNAME:CEST
DTSTART:20190331T010000
END:DAYLIGHT
BEGIN:STANDARD
TZOFFSETFROM:+0200
TZOFFSETTO:+0100
TZNAME:CET
DTSTART:20191027T010000
END:STANDARD
BEGIN:DAYLIGHT
TZOFFSETFROM:+0100
TZOFFSETTO:+0200
TZNAME:CEST
DTSTART:20200329T010000
END:DAYLIGHT
BEGIN:STANDARD
TZOFFSETFROM:+0200
TZOFFSETTO:+0100
TZNAME:CET
DTSTART:20201025T010000
END:STANDARD
END:VTIMEZONE
BEGIN:VEVENT
DTSTART;TZID=Europe/Berlin:20190826T110000
DTEND;TZID=Europe/Berlin:20190829T170000
DTSTAMP:20260425T132029
CREATED:20190730T120538Z
LAST-MODIFIED:20190730T120618Z
UID:1692-1566817200-1567098000@w-w-s.info
SUMMARY:Karten legen nach Lenormand von schweizer Medium Maria Angela
DESCRIPTION:Nähere Infos \nHIER \n30 Min.  54€ \n60 Min. 108€ \n90 Min. 150€ \nMaria Angela ist bis Sonntag bei uns und sie nimmt bis zu 5 Termine täglich bis Donnerstag an.
URL:https://w-w-s.info/event/karten-legen-nach-lenormand-von-schweizer-medium-maria-angela/
LOCATION:Wohlfühl-T-raum\, Unterhölterfelderstr. 36a\, Remscheid\, NRW\, 42857\, Deutschland
END:VEVENT
END:VCALENDAR